BEGIN:VCALENDAR
VERSION:2.0
PRODID:-//OSE ZD - ECPv6.15.20//NONSGML v1.0//EN
CALSCALE:GREGORIAN
METHOD:PUBLISH
X-ORIGINAL-URL:https://osezd.com
X-WR-CALDESC:Évènements pour OSE ZD
REFRESH-INTERVAL;VALUE=DURATION:PT1H
X-Robots-Tag:noindex
X-PUBLISHED-TTL:PT1H
BEGIN:VTIMEZONE
TZID:Europe/Paris
BEGIN:DAYLIGHT
TZOFFSETFROM:+0100
TZOFFSETTO:+0200
TZNAME:CEST
DTSTART:20230326T010000
END:DAYLIGHT
BEGIN:STANDARD
TZOFFSETFROM:+0200
TZOFFSETTO:+0100
TZNAME:CET
DTSTART:20231029T010000
END:STANDARD
BEGIN:DAYLIGHT
TZOFFSETFROM:+0100
TZOFFSETTO:+0200
TZNAME:CEST
DTSTART:20240331T010000
END:DAYLIGHT
BEGIN:STANDARD
TZOFFSETFROM:+0200
TZOFFSETTO:+0100
TZNAME:CET
DTSTART:20241027T010000
END:STANDARD
BEGIN:DAYLIGHT
TZOFFSETFROM:+0100
TZOFFSETTO:+0200
TZNAME:CEST
DTSTART:20250330T010000
END:DAYLIGHT
BEGIN:STANDARD
TZOFFSETFROM:+0200
TZOFFSETTO:+0100
TZNAME:CET
DTSTART:20251026T010000
END:STANDARD
END:VTIMEZONE
BEGIN:VEVENT
DTSTART;TZID=Europe/Paris:20241008T180000
DTEND;TZID=Europe/Paris:20241207T180000
DTSTAMP:20260424T020647
CREATED:20240919T101932Z
LAST-MODIFIED:20240919T101932Z
UID:4237-1728410400-1733594400@osezd.com
SUMMARY:Programme de formation OseZD
DESCRIPTION:Devenez Ambassadeur Zéro Déchet avec OseZD !\n\nVous souhaitez devenir un acteur engagé pour la planète et promouvoir le Zéro Déchet ? Rejoignez notre formation « Devenez Ambassadeur Zéro Déchet » organisée par l’association OseZD ! \n\nObjectifs de la formation :\n\nAcquérir les connaissances de base sur le Zéro Déchet.\nSavoir transmettre\, animer\, et organiser des sensibilisations.\nMaîtriser les outils pédagogiques mis à disposition de nos adhérents et partenaires.\n\nComment se passe la formation :\n\nVisio d’introduction : Une séance de 2h en soirée pour découvrir les bases du Zéro Déchet. Les dates disponibles sont :\n\n8 octobre\n4 novembre\n28 novembre\n\n\nDemi-journée en présentiel : Une session pratique de 3h30 avec des exercices pour mettre en pratique vos nouvelles compétences. Les dates disponibles sont :\n\n19 octobre\n16 novembre\n7 décembre\n\n\n\nModalités :\n\nAdhérez à l’association OseZD pour participer https://www.helloasso.com/associations/ose-zd/formulaires/3\nInscrivez-vous via le QR code ou vers ce lien https://docs.google.com/forms/d/e/1FAIpQLSf5zLmRQXO7s5DQ591HatWePGj_jt5kZFxeJ_gKYO8syXz-IQ/viewform\n\n\n\n\nPour plus d’informations ou pour toute question\, n’hésitez pas à nous contacter à l’adresse suivante : contact@osezd.com. \n\nRejoignez-nous pour devenir un ambassadeur du Zéro Déchet et contribuez à un avenir plus durable
URL:https://osezd.com/event/programme-de-formation-osezd/
ATTACH;FMTTYPE=image/jpeg:https://osezd.com/wp-content/uploads/2024/09/3.jpg
ORGANIZER;CN="OSE ZD":MAILTO:contact@osezd.com
END:VEVENT
END:VCALENDAR