BEGIN:VCALENDAR
VERSION:2.0
PRODID:-//OSE ZD - ECPv6.15.20//NONSGML v1.0//EN
CALSCALE:GREGORIAN
METHOD:PUBLISH
X-ORIGINAL-URL:https://osezd.com
X-WR-CALDESC:Évènements pour OSE ZD
REFRESH-INTERVAL;VALUE=DURATION:PT1H
X-Robots-Tag:noindex
X-PUBLISHED-TTL:PT1H
BEGIN:VTIMEZONE
TZID:Europe/Paris
BEGIN:DAYLIGHT
TZOFFSETFROM:+0100
TZOFFSETTO:+0200
TZNAME:CEST
DTSTART:20230326T010000
END:DAYLIGHT
BEGIN:STANDARD
TZOFFSETFROM:+0200
TZOFFSETTO:+0100
TZNAME:CET
DTSTART:20231029T010000
END:STANDARD
BEGIN:DAYLIGHT
TZOFFSETFROM:+0100
TZOFFSETTO:+0200
TZNAME:CEST
DTSTART:20240331T010000
END:DAYLIGHT
BEGIN:STANDARD
TZOFFSETFROM:+0200
TZOFFSETTO:+0100
TZNAME:CET
DTSTART:20241027T010000
END:STANDARD
BEGIN:DAYLIGHT
TZOFFSETFROM:+0100
TZOFFSETTO:+0200
TZNAME:CEST
DTSTART:20250330T010000
END:DAYLIGHT
BEGIN:STANDARD
TZOFFSETFROM:+0200
TZOFFSETTO:+0100
TZNAME:CET
DTSTART:20251026T010000
END:STANDARD
END:VTIMEZONE
BEGIN:VEVENT
DTSTART;TZID=Europe/Paris:20240524T190000
DTEND;TZID=Europe/Paris:20240525T170000
DTSTAMP:20260423T131439
CREATED:20240517T120352Z
LAST-MODIFIED:20240517T120352Z
UID:4174-1716577200-1716656400@osezd.com
SUMMARY:Retrouvez-nous au Forum éco-responsable : Agir pour Demain
DESCRIPTION:🌿🌍 Événement : Stand de Sensibilisation à la Réduction des Déchets et à la Consommation Responsable 🌍🌿\n \nJoignez-vous à nous le samedi 25 mai de 10h à 12h30 lors du forum éco-responsable organisé par Orsay en Transition et la MJC Jacques Tati ! Nous serons présents pour vous sensibiliser à l’importance de réduire les déchets et de repenser notre manière de consommer. \nVenez nous rencontrer pour découvrir notre association\, nos actions sur le territoire et  échanger sur des actions concrètes pour passer à l’action ! \n📍 Où ? Stand de Orsay en Transition et la MJC Jacques Tati\, au forum éco-responsable  \n📅 Quand ? Samedi 25 mai\, de 10h à 12h30 \nN’oubliez pas de consulter la programmation complète de l’événement qui se déroule du vendredi 24 mai à 19h jusqu’au samedi 25 mai à 17h. Certaines activités nécessitent une inscription préalable. \nAgir pour demain – Orsay en transition – MJC Jacques Tati (mjctati.fr) \nNous avons hâte de vous rencontrer et de partager ensemble notre engagement pour un mode de vie plus durable ! \nÀ bientôt ! 🌿🌍 \nAgir pour demain – Orsay en transition – MJC Jacques Tati (mjctati.fr) \n  \n 
URL:https://osezd.com/event/retrouvez-nous-au-forum-eco-responsable-agir-pour-demain/
LOCATION:MJC Jacques Tati Orsay\, 14 bis avenue Saint-Laurent\, Orsay\, France
ATTACH;FMTTYPE=image/png:https://osezd.com/wp-content/uploads/2024/05/Agir-pour-demain.png
END:VEVENT
END:VCALENDAR