BEGIN:VCALENDAR
VERSION:2.0
PRODID:-//OSE ZD - ECPv6.15.20//NONSGML v1.0//EN
CALSCALE:GREGORIAN
METHOD:PUBLISH
X-ORIGINAL-URL:https://osezd.com
X-WR-CALDESC:Évènements pour OSE ZD
REFRESH-INTERVAL;VALUE=DURATION:PT1H
X-Robots-Tag:noindex
X-PUBLISHED-TTL:PT1H
BEGIN:VTIMEZONE
TZID:Europe/Paris
BEGIN:DAYLIGHT
TZOFFSETFROM:+0100
TZOFFSETTO:+0200
TZNAME:CEST
DTSTART:20230326T010000
END:DAYLIGHT
BEGIN:STANDARD
TZOFFSETFROM:+0200
TZOFFSETTO:+0100
TZNAME:CET
DTSTART:20231029T010000
END:STANDARD
BEGIN:DAYLIGHT
TZOFFSETFROM:+0100
TZOFFSETTO:+0200
TZNAME:CEST
DTSTART:20240331T010000
END:DAYLIGHT
BEGIN:STANDARD
TZOFFSETFROM:+0200
TZOFFSETTO:+0100
TZNAME:CET
DTSTART:20241027T010000
END:STANDARD
BEGIN:DAYLIGHT
TZOFFSETFROM:+0100
TZOFFSETTO:+0200
TZNAME:CEST
DTSTART:20250330T010000
END:DAYLIGHT
BEGIN:STANDARD
TZOFFSETFROM:+0200
TZOFFSETTO:+0100
TZNAME:CET
DTSTART:20251026T010000
END:STANDARD
END:VTIMEZONE
BEGIN:VEVENT
DTSTART;TZID=Europe/Paris:20240914T100000
DTEND;TZID=Europe/Paris:20240914T170000
DTSTAMP:20260422T223731
CREATED:20240909T124637Z
LAST-MODIFIED:20240909T131614Z
UID:4205-1726308000-1726333200@osezd.com
SUMMARY:Atelier Créa'Récup au Festi’vallée d’Igny 2024
DESCRIPTION:Festi’Vallée d’Igny 2024 \nFesti’vallée d’Igny 2024 : Un Week-end Inoubliable au Cœur de la Vallée de la Bièvre !\n\nRendez-vous le Samedi 14 septembre de 10h à 17h pour la 9ème édition de Festi’vallée d’Igny ! Venez profiter d’une fête populaire unique au sein de la Communauté Paris-Saclay\, dans un cadre naturel préservé\, sur la prairie de Saint-Nicolas\, située au 14 avenue Jean Jaurès à Igny\, en face de la gare RER C (arrêt : Igny). \nCoorganisé par le Comité d’Animation d’Igny et la Ville d’Igny\, Festi’vallée est devenu un événement incontournable dans la région\, attirant plus de 10 000 visiteurs chaque année. Rejoignez-nous pour un week-end de fête\, de créativité et de partage ! \nAu Programme :\n\nVillage d’artisans : Découvrez des créations uniques et originales.\nStructures gonflables pour le plaisir des plus petits.\nDédicaces BD : Rencontrez vos auteurs préférés.\nBuvette et restauration pour régaler vos papilles.\nConcerts en plein air pour une ambiance festive.\nSpectacle pyrotechnique : Laissez-vous émerveiller par un feu d’artifice spectaculaire !\n\nAtelier Créa’récup :\nRetrouvez notre équipe pour un atelier créa’récup et réalisez votre propre Carnet Malin à partir de matériaux recyclés ! \nTuto : Calepin malin – OSE ZD Tuto : Calepin malin OSE ZD \nVenez nombreux découvrir ce rendez-vous incontournable et vivez un week-end de partage et de convivialité ! Nous vous attendons avec impatience sur la Prairie de Saint-Nicolas ! \nNe manquez pas cette édition festive de Festi’vallée d’Igny 2024 ! \nFesti’vallée – Mairie Igny \n\n📅 Date : Samedi 14 septembre\n🕒 Horaires : 10h – 17h\n📍 Lieu : Prairie de Saint-Nicolas\, 14 avenue Jean Jaurès\, 91430 Igny\n🚉 Accès : Gare RER C – Arrêt : Igny
URL:https://osezd.com/event/festivallee-digny-2024/
LOCATION:Parc Saint Nicolas\, 14 Av. Jean Jaurès\, Igny\, 91430\, France
ATTACH;FMTTYPE=image/webp:https://osezd.com/wp-content/uploads/2024/09/Festivalee-Igny-14-sept.webp
END:VEVENT
BEGIN:VEVENT
DTSTART;TZID=Europe/Paris:20240914T133000
DTEND;TZID=Europe/Paris:20240914T173000
DTSTAMP:20260422T223731
CREATED:20240909T130914Z
LAST-MODIFIED:20240909T130914Z
UID:4208-1726320600-1726335000@osezd.com
SUMMARY:Stand Fast Fashion à la Braderie Festive et Solidaire de Massy 
DESCRIPTION:Stand Fast Fashion\nà la Braderie Festive et Solidaire de Massy\nLe samedi 14 septembre 2024\, de 15h30 à 18h30\, ne manquez pas l’événement incontournable de l’année à Massy ! La Recyclerie Sportive\, en collaboration avec une dizaine de structures locales\, organise une grande braderie de seconde main au Kiosque Villaine\, dans le cadre des portes ouvertes du local temporaire de l’Espace de Proximité Thomas Mazarik. \nAu programme :\n\nVente et collecte d’articles variés : sport\, mercerie\, vêtements et bien plus encore.\nStands de créativité et de sensibilisation autour du réemploi : couture\, bricolage et autres ateliers pratiques.\nDisco’Soup pour une expérience culinaire et festive.\nStand de crêpes pour satisfaire toutes vos envies gourmandes.\n\nNous mettrons également en avant un stand dédié à la fast fashion\, avec des jeux et des activités pour sensibiliser le public aux enjeux du mode de consommation rapide. \nLieu : Kiosque Villaine\nOrganisateur : La Recyclerie Sportive Massy\nDate : Samedi 14 septembre 2024\nHeure : 15h30 à 18h30 \nVenez nombreux pour soutenir l’initiative éco-responsable et profiter d’une après-midi riche en découvertes et en convivialité. Braderie Festive et Solidaire – Massy (ville-massy.fr) \nNe ratez pas cette occasion unique de participer à une grande braderie tout en contribuant à un avenir plus durable ! 🌍✨
URL:https://osezd.com/event/stand-fast-fashion-a-la-braderie-festive-et-solidaire-de-massy/
LOCATION:Kiosque de Villaine\, 1 Rue Joliot Curie\, Massy\, 91300\, France
ATTACH;FMTTYPE=image/jpeg:https://osezd.com/wp-content/uploads/2024/09/affiche-braderie-festive-et-solidaire-t.-mazarik.jpg
END:VEVENT
BEGIN:VEVENT
DTSTART;TZID=Europe/Paris:20240915T100000
DTEND;TZID=Europe/Paris:20240915T170000
DTSTAMP:20260422T223731
CREATED:20240909T134213Z
LAST-MODIFIED:20240909T134213Z
UID:4216-1726394400-1726419600@osezd.com
SUMMARY:Atelier cuisine Zéro dechet à la Fête de la Patate
DESCRIPTION:Rejoignez-nous à la Fête de la Patate à Wissous le 15 Septembre : Ateliers Anti-Gaspi et Animations pour Tous !\nRejoignez-nous pour une journée festive pleine d’activités le dimanche 15 septembre à Wissous ! La célèbre Fête de la Patate et du Terroir vous attend avec un programme riche et varié. 🌳🤸 \n📅 Programme : \n\nMatin (10h – 12h00) : Atelier culinaire anti-gaspi avec OSE ZD et l’Agglomération Paris-Saclay. Venez apprendre à cuisiner malin et sans gaspillage ! 🥗🍞\nAprès-midi (13h – 17h) : Stand sur le gaspillage alimentaire tenu par OSE ZD. Découvrez des astuces pour réduire le gaspillage et adopter des habitudes durables au quotidien. ♻️🍽️\n\n📍Lieu : Parc Arthur Clark\, Wissous. \nMais ce n’est pas tout ! 🎡 La fête sera également animée par : \n\nUn vide-greniers de 8h à 18h\, idéal pour chiner et dénicher des trésors.\nUne exposition de voitures anciennes et de Harley Davidson en partenariat avec l’association La Marche des Bykcoeurs.\nLa fête foraine sur le parking du Complexe sportif du Cucheron.\nUne promenade enchantée à la lumière des flambeaux à partir de 20h30\, départ de l’école élémentaire La Fontaine.\n\n🎊 Ne manquez pas cette journée exceptionnelle ! Rendez-vous le 15 septembre pour célébrer la Fête de la Patate à Wissous ! \nLieux à retenir : \n\nParc Arthur Clark\nParking du Complexe sportif du Cucheron\nRue Mouchez\, Rue de la Division Leclerc\, Rue André Dolimier\n\nÀ très bientôt à Wissous pour une journée inoubliable ! 🌞🥔 \nFÊTE DE LA PATATE ET DU TERROIR (wissous.fr) \nFête de la Patate et du Terroir – Essonne Tourisme
URL:https://osezd.com/event/atelier-cuisine-zero-dechet-a-la-fete-de-la-patate/
LOCATION:Parc Arthur Clark\, 24 Rue du Général de Gressot\, Wissous\, France
ATTACH;FMTTYPE=image/jpeg:https://osezd.com/wp-content/uploads/2024/09/Affiche-fete-patate-2024_page-0001.jpg
END:VEVENT
BEGIN:VEVENT
DTSTART;TZID=Europe/Paris:20240919T183000
DTEND;TZID=Europe/Paris:20240919T210000
DTSTAMP:20260422T223731
CREATED:20240909T143050Z
LAST-MODIFIED:20240909T143050Z
UID:4220-1726770600-1726779600@osezd.com
SUMMARY:Apéro Zéro Déchet à L'Ebullition !
DESCRIPTION:Rejoignez-nous pour un Apéro Zéro Déchet le Jeudi 19 Septembre 2024\, à partir de 18h30 au Tiers Lieux L’Ebullition. C’est une soirée idéale pour rencontrer nos nouvelles et nouveaux bénévoles ainsi que nos adhérent.e.s\, tout en découvrant les initiatives passionnantes de notre association. \nAu programme de cette soirée :\n\nPrésentation des missions de OSE ZD : Découvrez les projets et les actions qui font la différence dans notre lutte contre les déchets.\nInformations sur les formations OSE ZD : Renseignez-vous sur les prochaines sessions de formation pour devenir un acteur du zéro déchet.\nDécouverte du rôle de bénévole : Comprenez comment vous pouvez contribuer en tant que bénévole et faire partie intégrante de notre communauté.\n\n📅 Date : Jeudi 19 Septembre 2024\n🕡 Heure : À partir de 18h30\n📍 Lieu : 2 Av. de la République\, 91120 Palaiseau \nInscrivez-vous dès maintenant et venez faire la différence avec nous !
URL:https://osezd.com/event/apero-zero-dechet-a-lebullition/
LOCATION:L’Ebullition\, 2 Av. de la République\, Palaiseau\, Sélectionner un État :\, France
ATTACH;FMTTYPE=image/png:https://osezd.com/wp-content/uploads/2024/09/21997c64-7c1e-cc2a-3876-1b51af72a788.png
ORGANIZER;CN="OSE ZD":MAILTO:contact@osezd.com
END:VEVENT
END:VCALENDAR